BEGIN:VCALENDAR
VERSION:2.0
PRODID:-//De Bovelzumft - Gelebtes Mittelalter e.V. - ECPv6.15.20//NONSGML v1.0//EN
CALSCALE:GREGORIAN
METHOD:PUBLISH
X-WR-CALNAME:De Bovelzumft - Gelebtes Mittelalter e.V.
X-ORIGINAL-URL:https://www.bovelzumft.de
X-WR-CALDESC:Veranstaltungen für De Bovelzumft - Gelebtes Mittelalter e.V.
REFRESH-INTERVAL;VALUE=DURATION:PT1H
X-Robots-Tag:noindex
X-PUBLISHED-TTL:PT1H
BEGIN:VTIMEZONE
TZID:Europe/Berlin
BEGIN:DAYLIGHT
TZOFFSETFROM:+0100
TZOFFSETTO:+0200
TZNAME:CEST
DTSTART:20240331T010000
END:DAYLIGHT
BEGIN:STANDARD
TZOFFSETFROM:+0200
TZOFFSETTO:+0100
TZNAME:CET
DTSTART:20241027T010000
END:STANDARD
BEGIN:DAYLIGHT
TZOFFSETFROM:+0100
TZOFFSETTO:+0200
TZNAME:CEST
DTSTART:20250330T010000
END:DAYLIGHT
BEGIN:STANDARD
TZOFFSETFROM:+0200
TZOFFSETTO:+0100
TZNAME:CET
DTSTART:20251026T010000
END:STANDARD
BEGIN:DAYLIGHT
TZOFFSETFROM:+0100
TZOFFSETTO:+0200
TZNAME:CEST
DTSTART:20260329T010000
END:DAYLIGHT
BEGIN:STANDARD
TZOFFSETFROM:+0200
TZOFFSETTO:+0100
TZNAME:CET
DTSTART:20261025T010000
END:STANDARD
END:VTIMEZONE
BEGIN:VEVENT
DTSTART;TZID=Europe/Berlin:20250728T100000
DTEND;TZID=Europe/Berlin:20250728T140000
DTSTAMP:20260421T170054
CREATED:20240524T183307Z
LAST-MODIFIED:20250110T200514Z
UID:2235-1753696800-1753711200@www.bovelzumft.de
SUMMARY:Bovelmarkt 2025: Aufräumen
DESCRIPTION:Wir räu­men die Freu­den­burg und das Gelän­de auf und besei­ti­gen alle Res­te von Müll und Uten­si­li­en\, die nichts in einem Park ver­lo­ren haben.
URL:https://www.bovelzumft.de/bovelkalender/bovelmarkt-2025-aufraeumen/
LOCATION:Freudenburg Bassum\, Amtsfreiheit\, Bassum\, 27211\, Deutschland
CATEGORIES:Offene Veranstaltung
END:VEVENT
END:VCALENDAR