BEGIN:VCALENDAR
VERSION:2.0
PRODID:-//De Bovelzumft - Gelebtes Mittelalter e.V. - ECPv6.15.20//NONSGML v1.0//EN
CALSCALE:GREGORIAN
METHOD:PUBLISH
X-ORIGINAL-URL:https://www.bovelzumft.de
X-WR-CALDESC:Veranstaltungen für De Bovelzumft - Gelebtes Mittelalter e.V.
REFRESH-INTERVAL;VALUE=DURATION:PT1H
X-Robots-Tag:noindex
X-PUBLISHED-TTL:PT1H
BEGIN:VTIMEZONE
TZID:Europe/Berlin
BEGIN:DAYLIGHT
TZOFFSETFROM:+0100
TZOFFSETTO:+0200
TZNAME:CEST
DTSTART:20230326T010000
END:DAYLIGHT
BEGIN:STANDARD
TZOFFSETFROM:+0200
TZOFFSETTO:+0100
TZNAME:CET
DTSTART:20231029T010000
END:STANDARD
BEGIN:DAYLIGHT
TZOFFSETFROM:+0100
TZOFFSETTO:+0200
TZNAME:CEST
DTSTART:20240331T010000
END:DAYLIGHT
BEGIN:STANDARD
TZOFFSETFROM:+0200
TZOFFSETTO:+0100
TZNAME:CET
DTSTART:20241027T010000
END:STANDARD
BEGIN:DAYLIGHT
TZOFFSETFROM:+0100
TZOFFSETTO:+0200
TZNAME:CEST
DTSTART:20250330T010000
END:DAYLIGHT
BEGIN:STANDARD
TZOFFSETFROM:+0200
TZOFFSETTO:+0100
TZNAME:CET
DTSTART:20251026T010000
END:STANDARD
END:VTIMEZONE
BEGIN:VEVENT
DTSTART;TZID=Europe/Berlin:20240927T140000
DTEND;TZID=Europe/Berlin:20240929T180000
DTSTAMP:20260420T162419
CREATED:20240524T183732Z
LAST-MODIFIED:20240524T183732Z
UID:2240-1727445600-1727632800@www.bovelzumft.de
SUMMARY:Jubiläumsfahrt: 10 Jahre Bovelzumft
DESCRIPTION:Wir fah­ren gemein­sam mit dem Bus zur Burg War­berg und fei­ern 10 jäh­ri­ges Vereinsbestehen
URL:https://www.bovelzumft.de/bovelkalender/jubilaeumsfahrt-10-jahre-bovelzumft/
LOCATION:Burg Warberg\, An der Burg 3\, Warberg\, 38378\, Deutschland
CATEGORIES:Geschlossene Veranstaltung
END:VEVENT
END:VCALENDAR