BEGIN:VCALENDAR
VERSION:2.0
PRODID:-//De Bovelzumft - Gelebtes Mittelalter e.V. - ECPv6.15.20//NONSGML v1.0//EN
CALSCALE:GREGORIAN
METHOD:PUBLISH
X-WR-CALNAME:De Bovelzumft - Gelebtes Mittelalter e.V.
X-ORIGINAL-URL:https://www.bovelzumft.de
X-WR-CALDESC:Veranstaltungen für De Bovelzumft - Gelebtes Mittelalter e.V.
REFRESH-INTERVAL;VALUE=DURATION:PT1H
X-Robots-Tag:noindex
X-PUBLISHED-TTL:PT1H
BEGIN:VTIMEZONE
TZID:Europe/Berlin
BEGIN:DAYLIGHT
TZOFFSETFROM:+0100
TZOFFSETTO:+0200
TZNAME:CEST
DTSTART:20240331T010000
END:DAYLIGHT
BEGIN:STANDARD
TZOFFSETFROM:+0200
TZOFFSETTO:+0100
TZNAME:CET
DTSTART:20241027T010000
END:STANDARD
BEGIN:DAYLIGHT
TZOFFSETFROM:+0100
TZOFFSETTO:+0200
TZNAME:CEST
DTSTART:20250330T010000
END:DAYLIGHT
BEGIN:STANDARD
TZOFFSETFROM:+0200
TZOFFSETTO:+0100
TZNAME:CET
DTSTART:20251026T010000
END:STANDARD
BEGIN:DAYLIGHT
TZOFFSETFROM:+0100
TZOFFSETTO:+0200
TZNAME:CEST
DTSTART:20260329T010000
END:DAYLIGHT
BEGIN:STANDARD
TZOFFSETFROM:+0200
TZOFFSETTO:+0100
TZNAME:CET
DTSTART:20261025T010000
END:STANDARD
END:VTIMEZONE
BEGIN:VEVENT
DTSTART;VALUE=DATE:20250905
DTEND;VALUE=DATE:20250909
DTSTAMP:20260421T223902
CREATED:20250902T050822Z
LAST-MODIFIED:20250902T050822Z
UID:2837-1757030400-1757375999@www.bovelzumft.de
SUMMARY:Herbstfest mit Mittelaltermarkt beim Spascher Sand in Wildeshausen
DESCRIPTION:Ablauf: \nFr. 05.09. ab 10.00 Uhr Aufbau \nSa. 06.09. ab 12.00 bis 22.00 Uhr Mittelaltermarkt \nSo. 07.09. ab 11.00 bis 17.00 Uhr Mit­tel­al­ter­markt\, ab 18.00 Uhr Abbau \nMo. 08.09. bis 14.00 Uhr Abrei­se Bovellager
URL:https://www.bovelzumft.de/bovelkalender/herbstfest-mit-mittelaltermarkt-beim-spascher-sand-in-wildeshausen/
LOCATION:Spascher Sand\, Spasche 1\, Wildeshausen\, Niedersachsen\, 27793\, Germany
CATEGORIES:Lagern,Marktbeschickung,Marktbesuch,Offene Veranstaltung
END:VEVENT
END:VCALENDAR