BEGIN:VCALENDAR
VERSION:2.0
PRODID:-//De Bovelzumft - Gelebtes Mittelalter e.V. - ECPv6.15.20//NONSGML v1.0//EN
CALSCALE:GREGORIAN
METHOD:PUBLISH
X-ORIGINAL-URL:https://www.bovelzumft.de
X-WR-CALDESC:Veranstaltungen für De Bovelzumft - Gelebtes Mittelalter e.V.
REFRESH-INTERVAL;VALUE=DURATION:PT1H
X-Robots-Tag:noindex
X-PUBLISHED-TTL:PT1H
BEGIN:VTIMEZONE
TZID:Europe/Berlin
BEGIN:DAYLIGHT
TZOFFSETFROM:+0100
TZOFFSETTO:+0200
TZNAME:CEST
DTSTART:20240331T010000
END:DAYLIGHT
BEGIN:STANDARD
TZOFFSETFROM:+0200
TZOFFSETTO:+0100
TZNAME:CET
DTSTART:20241027T010000
END:STANDARD
BEGIN:DAYLIGHT
TZOFFSETFROM:+0100
TZOFFSETTO:+0200
TZNAME:CEST
DTSTART:20250330T010000
END:DAYLIGHT
BEGIN:STANDARD
TZOFFSETFROM:+0200
TZOFFSETTO:+0100
TZNAME:CET
DTSTART:20251026T010000
END:STANDARD
BEGIN:DAYLIGHT
TZOFFSETFROM:+0100
TZOFFSETTO:+0200
TZNAME:CEST
DTSTART:20260329T010000
END:DAYLIGHT
BEGIN:STANDARD
TZOFFSETFROM:+0200
TZOFFSETTO:+0100
TZNAME:CET
DTSTART:20261025T010000
END:STANDARD
END:VTIMEZONE
BEGIN:VEVENT
DTSTART;TZID=Europe/Berlin:20250831T110000
DTEND;TZID=Europe/Berlin:20250831T190000
DTSTAMP:20260421T235700
CREATED:20250830T055002Z
LAST-MODIFIED:20250830T055002Z
UID:2834-1756638000-1756666800@www.bovelzumft.de
SUMMARY:Muschelfest an der Freudenburg zu Bassum
DESCRIPTION:25 Jah­re Kon­zert­mu­schel in Bas­sum – wenn das kein Grund zum Fei­ern ist! \nEs gibt ein bun­tes Pro­gramm für jung und mit­tel­alt 😉 – die Zwer­gen­wie­se der Bovelzumft bie­tet eini­ge ihrer Attrak­tio­nen für die jun­gen Besucher. \n11:00 Uhr geht es los mit dem Gottesdienst \n12:00 Uhr Begrü­ßung und Muscheltalk \n13:00 Uhr Die Bovel­mu­siküs­se eröff­nen den mus­ka­li­schen Teil der Veranstaltung \n13:45 Uhr Matt und Bas­ti betre­ten die Bühne \n14:45 Uhr gibt Black­tron eine Kost­pro­be ihres Kön­nens zum Besten \n16:00 Uhr wird der krö­nen­de Abschluss von School House Seven präsentiert
URL:https://www.bovelzumft.de/bovelkalender/muschelfest-an-der-freudenburg-zu-bassum/
LOCATION:Freudenburg Bassum\, Amtsfreiheit\, Bassum\, 27211\, Deutschland
END:VEVENT
END:VCALENDAR